BEGIN:VCALENDAR
VERSION:2.0
PRODID:-//Tiroler Jägerverband - ECPv5.14.1//NONSGML v1.0//EN
CALSCALE:GREGORIAN
METHOD:PUBLISH
X-WR-CALNAME:Tiroler Jägerverband
X-ORIGINAL-URL:https://www.tjv.at
X-WR-CALDESC:Veranstaltungen für Tiroler Jägerverband
REFRESH-INTERVAL;VALUE=DURATION:PT1H
X-Robots-Tag:noindex
X-PUBLISHED-TTL:PT1H
BEGIN:VTIMEZONE
TZID:Europe/Helsinki
BEGIN:DAYLIGHT
TZOFFSETFROM:+0200
TZOFFSETTO:+0300
TZNAME:EEST
DTSTART:20250330T010000
END:DAYLIGHT
BEGIN:STANDARD
TZOFFSETFROM:+0300
TZOFFSETTO:+0200
TZNAME:EET
DTSTART:20251026T010000
END:STANDARD
END:VTIMEZONE
BEGIN:VEVENT
DTSTART;TZID=Europe/Helsinki:20250510T080000
DTEND;TZID=Europe/Helsinki:20250510T160000
DTSTAMP:20260423T151657
CREATED:20250319T105035Z
LAST-MODIFIED:20250320T104118Z
UID:28246-1746864000-1746892800@www.tjv.at
SUMMARY:31. Kitzbüheler Jägerschießen
DESCRIPTION:[vc_row][vc_column][vc_column_text] \nEinladung zum 31. Kitzbüheler Jägerschießen\nDie Bezirksstelle Kitzbühel des Tiroler Jägerverbandes veranstaltet am Samstag\, 10. Mai 2025 das 31. Kitzbüheler Jägerschießen am Schießstand Weng in Kirchdorf in Tirol (Wengerstraße 64\, in 6382 Kirchdorf – Tirol) \n1. Einlage: € 25.–\n2. Das Schießen findet bei jeder Witterung statt!\n3. Schießzeiten: von 8.00 bis 16.00 Uhr\n4. Nennungsschluss: 15.00 Uhr\n5. Bei der Preisverteilung werden unter den anwesenden Teilnehmern zusätzlich wertvolle Sachpreise und Abschüsse verlost. Als Losnummer gilt die Schützennummer auf dem Schießzettel.\n6. Erlaubt sind alle auf Schalenwild zugelassenen Kaliber sowie Zielfernrohre bis zu 8-facher Vergrößerung.\n7. Es sind nur Jagdwaffen zugelassen. Schalldämpfer sind erlaubt.\n(keine Benchrestgewehre\, keine Match- oder Varmint-Läufe).\n8. Über die Zuordnung der Waffe entscheidet die Schießleitung!\n9. Leihwaffe: gegen Gebühr von € 20.– inkl. Munition\n10. Es darf nur Teilmantelmunition verwendet werden!\n11. 1 Probeschuss frei!\n12. Bewerb: Anatomische Wildscheibe (Änderung vorbehalten)\n13. 4 Schuss – 100 m sitzend aufgelegt.\n(Auflage nur unter Vorderschaft – es darf nur die auf dem Stand befindliche\nAuflage verwendet werden – unter dem Hinterschaft ist außer der Hand\nkeine Auflage erlaubt).\n14. Der Bewerb ist nicht wiederholbar!\n15. Teilnahmeberechtigt sind Schützen\, die eine im Bezirk Kitzbühel ausgestellte\, gültige Jagdkarte besitzen oder im Bezirk Kitzbühel jagdausübungsberechtigt sind.\nACHTUNG: Bei der Anmeldung ist die gültige Jagdkarte vorzulegen.\n16. Jeder Schütze erhält seinen eigenen Scheibenspiegel bei der Preisverteilung!\n17. Nur auf dem Scheibenspiegel aufscheinende Treffer werden gewertet!\n18. Bei Ringgleichheit entscheidet:\n1. Das Ergebnis des besten Schusses.\n2. Bei weiterer Ring-Gleichheit entscheidet das Lebensalter.\n19. Als Zähler wird der eindeutig durchbrochene Ring gewertet!\n20. Waffen: Auf dem Schießstandgelände sind Kipplaufwaffen gebrochen bzw. Repetiergewehre mit offenem Verschluss zu führen und abzulegen! Bei Nichtbeachtung wird eine Pönale von € 50\,– eingehoben!\n21. Den Anordnungen der Standaufsicht und der Schießstandorgane ist Folge zu leisten!\n22. Die Entscheidung der Schießleitung ist endgültig! Schießleitung: Mag. Matthias Seiwald\, HM. Harald Massinger\, BJM-Stv. Hermann Portenkirchner\,.\n23. Der Rechtsweg ist ausgeschlossen!\n24. Der Veranstalter übernimmt für Unfälle keinerlei Haftung!\n25. Die Preisverteilung samt Verlosung findet anschließend um ca. 19.00 Uhr\, im Dorfsaal der Gemeinde Kirchdorf\, statt. Für das leibliche Wohl ist gesorgt.\n26. Preise müssen persönlich abgeholt werden. \nProgrammänderungen und Satzfehler vorbehalten! \nJagdaufseher Ehrenscheibe\nDie Jagdaufseher des Bezirkes Kitzbühel beschießen im Rahmen des Kitzbüheler Jägerschießens eine Ehrenscheibe.\n1 Schuss bei separater Wertung.\nTeilnehmende Jagdaufseher bitte bei der Einschreibung bekanntgeben.[/vc_column_text][/vc_column][/vc_row][vc_row][vc_column][/vc_column][/vc_row]
URL:https://www.tjv.at/veranstaltung/31-kitzbueheler-jaegerschiessen/
LOCATION:Schießstand Weng in Kirchdorf\, Wenger Straße 64\, Kirchdorf in Tirol\, Tirol\, 6282\, Österreich
CATEGORIES:Bezirksveranstaltungen/-sammlungen
ATTACH;FMTTYPE=image/jpeg:https://www.tjv.at/wp-content/uploads/2025/03/Foto-zorandim75-AdobeStock.jpg
END:VEVENT
END:VCALENDAR