BEGIN:VCALENDAR
VERSION:2.0
PRODID:-//Tiroler Jägerverband - ECPv5.14.1//NONSGML v1.0//EN
CALSCALE:GREGORIAN
METHOD:PUBLISH
X-WR-CALNAME:Tiroler Jägerverband
X-ORIGINAL-URL:https://www.tjv.at
X-WR-CALDESC:Veranstaltungen für Tiroler Jägerverband
REFRESH-INTERVAL;VALUE=DURATION:PT1H
X-Robots-Tag:noindex
X-PUBLISHED-TTL:PT1H
BEGIN:VTIMEZONE
TZID:Europe/Helsinki
BEGIN:DAYLIGHT
TZOFFSETFROM:+0200
TZOFFSETTO:+0300
TZNAME:EEST
DTSTART:20260329T010000
END:DAYLIGHT
BEGIN:STANDARD
TZOFFSETFROM:+0300
TZOFFSETTO:+0200
TZNAME:EET
DTSTART:20261025T010000
END:STANDARD
END:VTIMEZONE
BEGIN:VEVENT
DTSTART;TZID=Europe/Helsinki:20260424T170000
DTEND;TZID=Europe/Helsinki:20260424T220000
DTSTAMP:20260424T165540
CREATED:20260212T075209Z
LAST-MODIFIED:20260216T084259Z
UID:29951-1777050000-1777068000@www.tjv.at
SUMMARY:Bezirksversammlung & Trophäenschau IBK-STADT
DESCRIPTION:[vc_row][vc_column][vc_column_text]Einladung zur Trophäenschau und Bezirksversammlung Innsbruck-Stadt 2026 \nSehr geehrte Innsbrucker Weidkameradinnen und Weidkameraden\,\ndie Bezirksstelle Innsbruck-Stadt des Tiroler Jägerverbandes lädt alle Jägerinnen und Jäger der Landeshauptstadt zur Trophäenschau und Bezirksversammlung am \nFreitag\, den 24. April 2026 \nab 17:00 bzw. 18:00 Uhr  \nim Tiroler Jägerheim\, lng.-Etzel-Straße 63\, 6020 Innsbruck\,  \nrecht herzlich ein. \n  \nProgramm: \n17.00 Uhr: Saaleinlass und Start der Trophäenschau \n18.00 Uhr: Beginn der Bezirksversammlung Innsbruck-Stadt (18.30 Uhr) \n  \nTagesordnung: \n\nEröffnung\, Begrüßung und Feststellung der Beschlussfähigkeit\nTotengedenken\nBericht des Bezirksjägermeisters\nBericht des Kassiers\nBericht der Rechnungsprüfer und Beschlussfassung über die Rechnungsabschlüsse 2025 der Bezirksstelle\nBericht und Beschlussfassung über den Jahresvoranschlag 2026 der Bezirksstelle\nJagdgesetznovelle 2026 – Änderungen und Ausblicke\nVortrag eines Gastreferenten zu einem Thema aus der Jagdpraxis (Ankündigung folgt in weiterer Einladung) \nAktuelle jagdliche Themen und Herausforderungen im Zusammenwirken mit den Vertretern/innen der Stadt Innsbruck. \nTag des Wildes und Hubertusfeier 2026 \nGrußworte der Ehrengäste \nAllfälliges \n\n  \nDie Tiroler Jagdhornbläser sorgen wie immer für den festlichen musikalischen Rahmen.  Im Anschluss an die Bezirksversammlung dürfen wir Sie und euch traditionell zu einer Jause und Getränken einladen. \n  \nWir freuen uns auf Ihr und dein Kommen! \nMit Dank und einem kräftigen Weidmannsheil verbleibt\, \nFranz Xaver Gruber\, Bezirksjägermeister \n  \n  \nHINWEIS NACH § 14 ABS. 3\, 4\, 5 \nDER SATZUNGEN DES TJV: \nDie Bezirksversammlung ist beschlussfähig\, wenn alle Per- \nsonen\, die zu diesem Zeitpunkt deren Mitglieder waren\, späte- \nstens zwei Wochen\, im Falle von Wahlen vier Wochen\, vor der \nSitzung persönlich oder durch Übermittlung des einen Hin- \nweis auf Zeit\, Ort und Tagesordnung der Bezirksversammlung \nenthaltenen Mitteilungsblattes des Tiroler Jägerverbandes \n(Zeitschrift „Jagd in Tirol“) ordnungsgemäß eingeladen wur- \nden und mindestens ein Drittel dieser Personen anwesend \nist. Die Einladung zur Bezirksversammlung ist auch dann \nordnungsgemäß\, wenn ein Mitglied in dem vom Tiroler Jäger- \nverband zu führenden Mitgliederverzeichnis nur deshalb dem \nfalschen Bezirk zugeordnet ist\, weil das Mitglied es unterlas- \nsen hat\, den Tiroler Jägerverband von einer Änderung seines \nHauptwohnsitzes\, in Ermangelung eines Hauptwohnsitzes in \nTirol vom Wechsel des Bezirkes\, in dem das Mitglied die Jagd \nregelmäßig ausübt\, schriftlich zu verständigen (§ 4 Abs. 2 lit. \ng Satzungen TJV). Ist zu der für den Versammlungsbeginn \nfestgesetzten Zeit nicht die erforderliche Anzahl an Mitgliedern \nvertreten\, so ist nach einer Wartezeit von einer halben Stunde \ndie Bezirksversammlung ohne Rücksicht auf die Anzahl der \nanwesenden Mitglieder beschlussfähig. Beschlüsse werden \nmit einfacher Mehrheit der abgegebenen Stimmen gefasst. \nStimmenthaltung und ungültige Stimmabgabe gelten als \nnicht abgegebene Stimmen (§ 14 Abs. 6). \n  \nFranz Xaver Gruber\, Bezirksjägermeister[/vc_column_text][/vc_column][/vc_row][vc_row][vc_column][/vc_column][/vc_row]
URL:https://www.tjv.at/veranstaltung/bezirksversammlung-trophaeenschau-ibk-stadt-2/
LOCATION:Tiroler Jägerheim\, Ing.-Etzel-Straße 63\, Innsbruck\, 6020\, Österreich
CATEGORIES:Bezirksveranstaltungen/-sammlungen
ATTACH;FMTTYPE=image/jpeg:https://www.tjv.at/wp-content/uploads/2026/02/DSC_6577-scaled-1.jpg
END:VEVENT
END:VCALENDAR